Workbook

Sheet 작성방법
C3: 작성 방법
C5: 1. TP 기업지원단 및 수행기관
C6: - 작성시트 : 지원프로그램(TP)
C7: - TP 기업지원단은 공고 이전에 지원프로그램(해당 지역에서 지원하는 모든 프로그램에 대한 상세내용)을 작성 후 배포
C9: 2. 신청기업
C10: - 작성시트 : 신청기업정보, 신청프로그램, 기업지원수혜이력
C11: - 위의 3개 시트에서 모든 정보를 입력 후 신청양식(출력용)으로 신청서 대체 가능

Sheet 지원프로그램(TP)
A1: 프로그램 관리번호 | B1: 산업분야 | C1: 지원유형 | D1: 프로그램명 | E1: 지원내용 | F1: 지원기관명 | G1: 지원금액한도 (천원) | H1: 기업부담금비율(%) | J1: 지역명 | K1: 지역코드
A2: bs_16_001 | B2: 지능형기계부품 | C2: 사업화지원 | D2: 전시회 | E2: 국내전시회 개별참가지원 | F2: (재)부산테크노파크 | G2: 5000 | H2: 10 | J2: 강원 | K2: kw
A3: bs_16_002 | B3: 지능형기계부품 | C3: 사업화지원 | D3: 전시회 | E3: 국내전시회 공동참가지원 | F3: (재)부산테크노파크 | G3: 5000 | H3: 10 | J3: 경남 | K3: gn
A4: bs_16_003 | B4: 지능형기계부품 | C4: 사업화지원 | D4: 전시회 | E4: 국외전시회 개별참가지원 | F4: (재)부산테크노파크 | G4: 10000 | H4: 10 | J4: 경북 | K4: gb
A5: bs_16_004 | B5: 지능형기계부품 | C5: 기술지원 | D5: 제품고급화 | E5: 지능형 기계부품 관련 유망제품의 제품고급화제작 지원 | F5: (재)부산테크노파크 | G5: 19000 | H5: 10 | J5: 광주 | K5: gj
A6: bs_16_005 | B6: 지능형기계부품 | C6: 기술지원 | D6: 제품고급화 | E6: 지능형 기계부품 관련 유망제품의 생산 공정개선 지원 | F6: (재)부산테크노파크 | G6: 30000 | H6: 10 | J6: 대구 | K6: dg
A7: bs_16_006 | B7: 지능형기계부품 | C7: 사업화지원 | D7: 마케팅 | E7: 시장조사 | F7: T-Lab | G7: 0 | H7: 0 | J7: 대전 | K7: dj
A8: bs_16_007 | B8: 지능형기계부품 | C8: 사업화지원 | D8: 마케팅 | E8: 홍보매체제작지원1 | F8: T-Lab | G8: 7000 | H8: 10 | J8: 부산 | K8: bs
A9: bs_16_008 | B9: 지능형기계부품 | C9: 사업화지원 | D9: 마케팅 | E9: 홍보매체제작지원2 | F9: T-Lab | G9: 3000 | H9: 10 | J9: 세종 | K9: sj
A10: bs_16_009 | B10: 지능형기계부품 | C10: 사업화지원 | D10: 마케팅 | E10: BM 마케팅 컨설팅 | F10: T-Lab | G10: 2000 | H10: 10 | J10: 울산 | K10: us
A11: bs_16_010 | B11: 지능형기계부품 | C11: 사업화지원 | D11: 마케팅 | E11: 해외 바이어초청 구매중개 | F11: T-Lab | G11: 2000 | H11: 10 | J11: 전남 | K11: jn
A12: bs_16_011 | B12: 지능형기계부품 | C12: 사업화지원 | D12: 마케팅 | E12: 맞춤형 구매중개 | F12: T-Lab | G12: 750 | H12: 10 | J12: 전북 | K12: jb
A13: bs_16_012 | B13: 지능형기계부품 | C13: 사업화지원 | D13: 마케팅 | E13: 국내외기업 상세정보조사 | F13: T-Lab | G13: 0 | H13: 0 | J13: 제주 | K13: jj
... A15: bs_16_014 | B15: 바이오헬스 | C15: 사업화지원 | D15: 마케팅 | E15: 마케팅 컨설팅지원 | F15: (재)부산디자인센터 | G15: 0 | H15: 0 | J15: 충북 | K15: cb
A16: bs_16_015 | B16: 바이오헬스 | C16: 사업화지원 | D16: 마케팅 | E16: 심화 마케팅 컨설팅 지원 | F16: (재)부산디자인센터 | G16: 0 | H16: 0
A17: bs_16_016 | B17: 바이오헬스 | C17: 사업화지원 | D17: 마케팅 | E17: 수출을 위한 홍보동영상 제작 | F17: (재)부산디자인센터 | G17: 6000 | H17: 10
A18: bs_16_017 | B18: 바이오헬스 | C18: 사업화지원 | D18: 마케팅 | E18: 모바일 앱 또는 홈페이지 제작 | F18: (재)부산디자인센터 | G18: 5000 | H18: 10
A19: bs_16_018 | B19: 바이오헬스 | C19: 사업화지원 | D19: 마케팅 | E19: 홍보물 제작 또는 E-BOOK 제작 | F19: (재)부산디자인센터 | G19: 5000 | H19: 10
A20: bs_16_019 | B20: 바이오헬스 | C20: 사업화지원 | D20: 마케팅 | E20: CI 또는 BI 개발 | F20: (재)부산디자인센터 | G20: 12000 | H20: 10
A21: bs_16_020 | B21: 바이오헬스 | C21: 사업화지원 | D21: 마케팅 | E21: 패키지 디자인개발 | F21: (재)부산디자인센터 | G21: 15000 | H21: 10
A22: bs_16_021 | B22: 바이오헬스 | C22: 사업화지원 | D22: 전시회 | E22: 국내전시회공동참가지원 | F22: (사)부산아비오기업협회 | G22: 10000 | H22: 30
A23: bs_16_022 | B23: 바이오헬스 | C23: 사업화지원 | D23: 전시회 | E23: 국외전시회 공동참가지원 | F23: (사)부산아비오기업협회 | G23: 40000 | H23: 30
A24: bs_16_023 | B24: 바이오헬스 | C24: 사업화지원 | D24: 전시회 | E24: 해외시장 맞춤형 공동브랜드 개발 지원 | F24: (사)부산아비오기업협회 | G24: 15000 | H24: 30
A25: bs_16_024 | B25: 바이오헬스 | C25: 사업화지원 | D25: 전시회 | E25: 국내‧외 바이어 매칭 상담회 지원 | F25: (사)부산아비오기업협회 | G25: 28000 | H25: 30
A26: bs_16_025 | B26: 바이오헬스 | C26: 사업화지원 | D26: 전시회 | E26: 해외온오프라인 유통망 입점지원 | F26: (사)부산아비오기업협회 | G26: 3000 | H26: 30
A27: bs_16_026 | B27: 바이오헬스 | C27: 사업화지원 | D27: 전시회 | E27: 타겟 시장 맞춤형 인증 및 인허가 지원 | F27: (사)부산아비오기업협회 | G27: 5000 | H27: 30
... A59: bs_16_058 | B59: 금형열처리 | C59: 기술지원 | D59: 제품고급화 | E59: 장비활용지원 | F59: (재)부산테크노파크 | G59: 0 | H59: 0
A60: bs_16_059
A61: bs_16_060
A62: bs_16_061
A63: bs_16_062
A64: bs_16_063
A65: bs_16_064
A66: bs_16_065
A67: bs_16_066
A68: bs_16_067
A69: bs_16_068
A70: bs_16_069
A71: bs_16_070
... A101: bs_16_100

Sheet 신청기업정보
A1: 1 | B1: 2 | C1: 3 | D1: 4 | E1: 5 | F1: 6 | G1: 7 | H1: 8 | I1: 9 | J1: 10 | K1: 11 | L1: 12 | M1: 13 | N1: 14 | O1: 15 | P1: 16 | Q1: 17 | R1: 18 | S1: 19 | T1: 20 | U1: 21 | V1: 22 | W1: 23 | X1: 24 | Y1: 25 | Z1: 26 | AA1: 27 | AB1: 28 | AC1: 29 | AD1: 30 | AE1: 31 | AF1: 32 | AG1: 33 | AH1: 34 | AI1: 35 | AJ1: 36 | AK1: 37 | AL1: 38 | AM1: 39 | AN1: 40
A2: 신청기업 기본정보 | M2: 고용현황(명) | Q2: 기업부설연구소 | S2: 실무담당자 | W2: 신청기업 주요현황
W3: 매출액(내수+수출)(천원) | Z3: 수출액(천원) | AC3: 주요수출품목 | AF3: 주요수출국 | AI3: 연구개발비(쳔원) | AL3: 종업원수(명)
A4: 사업자등록번호 | B4: 기업명 | C4: 소재지역 | D4: 법인등록번호 (000000-0000000) | E4: 대표자 성명 | F4: 우편번호 (00000) | G4: 주소(도로명 주소) | H4: 설립일 (yyyymmdd) | I4: 기업형태 | J4: 업태/업종명 | K4: KSIC 코드 | L4: 주생산품 | M4: 연구직 | N4: 생산직 | O4: 기타 | P4: 계 | Q4: 형태 | R4: 설립일자 (yyyymmdd) | S4: 성명 | T4: 전화 | U4: 휴대전화 | V4: E-MAIL | W4: 2013년 | X4: 2014년 | Y4: 2015년 | Z4: 2013년 | AA4: 2014년 | AB4: 2015년 | AC4: 2013년 | AD4: 2014년 | AE4: 2015년 | AF4: 2013년 | AG4: 2014년 | AH4: 2015년 | AI4: 2013년 | AJ4: 2014년 | AK4: 2015년 | AL4: 2013년 | AM4: 2014년 | AN4: 2015년
A5: 123-45-67890 | B5: 가나다 | C5: 강원 | D5: 123456-1234567 | E5: 유시진 | F5: 12345 | G5: 서울시 강남구 테헤란로 305 | H5: 20010101 | I5: 법인 | J5: abcde | K5: 12345 | L5: 조명 | M5: 3 | N5: 2 | O5: 1 | P5: =SUM(M5:O5) -> 6 | Q5: 연구소 | R5: 20130102 | S5: 서대영 | T5: 02-1234-1234 | U5: 010-1234-1234 | V5: aaa@aa.aa.aa | W5: 100 | X5: 200 | Y5: 300 | Z5: 70 | AA5: 150 | AB5: 200 | AC5: aa | AD5: bb | AE5: cc | AF5: 미국 | AG5: 미국 | AH5: 중국 | AI5: 30 | AJ5: 50 | AK5: 60 | AL5: 4 | AM5: 5 | AN5: =SUM(AL5:AM5) -> 9

Sheet 신청프로그램
A1: 사업자등록번호 (000-00-00000) | B1: 기업명 | C1: 지원희망 우선순위 | D1: 프로그램 관리번호 | E1: 산업분야 | F1: 프로그램 | G1: 지원기관명 | H1: 지원금액한도 (천원) | I1: 기업부담금비율(%) | J1: 제품명(서비스명) | K1: 신청금액(천원) | L1: 기업부담금
A2: =신청기업정보!$A$5 -> 123-45-67890 | B2: =신청기업정보!$B$5 -> 가나다 | C2: 1 | D2: kw_16_001 | E2: =IFERROR(VLOOKUP($D2,'지원프로그램(TP)'!$A$2:$H$101,2,0),"") | F2: =IFERROR(VLOOKUP($D2,'지원프로그램(TP)'!$A$2:$H$101,4,0),"") | G2: =IFERROR(VLOOKUP($D2,'지원프로그램(TP)'!$A$2:$H$101,6,0),"") | H2: =IFERROR(VLOOKUP($D2,'지원프로그램(TP)'!$A$2:$H$101,7,0),"") | I2: =IFERROR(VLOOKUP($D2,'지원프로그램(TP)'!$A$2:$H$101,8,0),"") | J2: aaaa | K2: 5000 | L2: =IFERROR(K2*I2/100,"")
A3: =신청기업정보!$A$5 -> 123-45-67890 | B3: =신청기업정보!$B$5 -> 가나다 | C3: 2 | D3: kw_16_002 | E3: =IFERROR(VLOOKUP($D3,'지원프로그램(TP)'!$A$2:$H$101,2,0),"") | F3: =IFERROR(VLOOKUP($D3,'지원프로그램(TP)'!$A$2:$H$101,4,0),"") | G3: =VLOOKUP($D3,'지원프로그램(TP)'!$A$2:$H$101,6,0) -> #N/A | H3: =IFERROR(VLOOKUP($D3,'지원프로그램(TP)'!$A$2:$H$101,7,0),"") | I3: =IFERROR(VLOOKUP($D3,'지원프로그램(TP)'!$A$2:$H$101,8,0),"") | J3: bbbb | K3: 250 | L3: =IFERROR(K3*I3/100,"")
A4: =신청기업정보!$A$5 -> 123-45-67890 | B4: =신청기업정보!$B$5 -> 가나다 | C4: 3 | D4: kw_16_003 | E4: =IFERROR(VLOOKUP($D4,'지원프로그램(TP)'!$A$2:$H$101,2,0),"") | F4: =IFERROR(VLOOKUP($D4,'지원프로그램(TP)'!$A$2:$H$101,4,0),"") | G4: =VLOOKUP($D4,'지원프로그램(TP)'!$A$2:$H$101,6,0) -> #N/A | H4: =IFERROR(VLOOKUP($D4,'지원프로그램(TP)'!$A$2:$H$101,7,0),"") | I4: =IFERROR(VLOOKUP($D4,'지원프로그램(TP)'!$A$2:$H$101,8,0),"") | J4: cccc | K4: 50 | L4: =IFERROR(K4*I4/100,"")
A5: =신청기업정보!$A$5 -> 123-45-67890 | B5: =신청기업정보!$B$5 -> 가나다 | C5: 4 | E5: =IFERROR(VLOOKUP($D5,'지원프로그램(TP)'!$A$2:$H$101,2,0),"") | F5: =IFERROR(VLOOKUP($D5,'지원프로그램(TP)'!$A$2:$H$101,4,0),"") | G5: =IFERROR(VLOOKUP($D5,'지원프로그램(TP)'!$A$2:$H$101,6,0),"") | H5: =IFERROR(VLOOKUP($D5,'지원프로그램(TP)'!$A$2:$H$101,7,0),"") | I5: =IFERROR(VLOOKUP($D5,'지원프로그램(TP)'!$A$2:$H$101,8,0),"") | L5: =IFERROR(K5*I5/100,"")
A6: =신청기업정보!$A$5 -> 123-45-67890 | B6: =신청기업정보!$B$5 -> 가나다 | C6: 5 | E6: =IFERROR(VLOOKUP($D6,'지원프로그램(TP)'!$A$2:$H$101,2,0),"") | F6: =IFERROR(VLOOKUP($D6,'지원프로그램(TP)'!$A$2:$H$101,4,0),"") | G6: =IFERROR(VLOOKUP($D6,'지원프로그램(TP)'!$A$2:$H$101,6,0),"") | H6: =IFERROR(VLOOKUP($D6,'지원프로그램(TP)'!$A$2:$H$101,7,0),"") | I6: =IFERROR(VLOOKUP($D6,'지원프로그램(TP)'!$A$2:$H$101,8,0),"") | L6: =IFERROR(K6*I6/100,"")
A7: =신청기업정보!$A$5 -> 123-45-67890 | B7: =신청기업정보!$B$5 -> 가나다 | C7: 6 | E7: =IFERROR(VLOOKUP($D7,'지원프로그램(TP)'!$A$2:$H$101,2,0),"") | F7: =IFERROR(VLOOKUP($D7,'지원프로그램(TP)'!$A$2:$H$101,4,0),"") | G7: =IFERROR(VLOOKUP($D7,'지원프로그램(TP)'!$A$2:$H$101,6,0),"") | H7: =IFERROR(VLOOKUP($D7,'지원프로그램(TP)'!$A$2:$H$101,7,0),"") | I7: =IFERROR(VLOOKUP($D7,'지원프로그램(TP)'!$A$2:$H$101,8,0),"") | L7: =IFERROR(K7*I7/100,"")
A8: =신청기업정보!$A$5 -> 123-45-67890 | B8: =신청기업정보!$B$5 -> 가나다 | C8: 7 | E8: =IFERROR(VLOOKUP($D8,'지원프로그램(TP)'!$A$2:$H$101,2,0),"") | F8: =IFERROR(VLOOKUP($D8,'지원프로그램(TP)'!$A$2:$H$101,4,0),"") | G8: =IFERROR(VLOOKUP($D8,'지원프로그램(TP)'!$A$2:$H$101,6,0),"") | H8: =IFERROR(VLOOKUP($D8,'지원프로그램(TP)'!$A$2:$H$101,7,0),"") | I8: =IFERROR(VLOOKUP($D8,'지원프로그램(TP)'!$A$2:$H$101,8,0),"") | L8: =IFERROR(K8*I8/100,"")
A9: =신청기업정보!$A$5 -> 123-45-67890 | B9: =신청기업정보!$B$5 -> 가나다 | C9: 8 | E9: =IFERROR(VLOOKUP($D9,'지원프로그램(TP)'!$A$2:$H$101,2,0),"") | F9: =IFERROR(VLOOKUP($D9,'지원프로그램(TP)'!$A$2:$H$101,4,0),"") | G9: =IFERROR(VLOOKUP($D9,'지원프로그램(TP)'!$A$2:$H$101,6,0),"") | H9: =IFERROR(VLOOKUP($D9,'지원프로그램(TP)'!$A$2:$H$101,7,0),"") | I9: =IFERROR(VLOOKUP($D9,'지원프로그램(TP)'!$A$2:$H$101,8,0),"") | L9: =IFERROR(K9*I9/100,"")
A10: =신청기업정보!$A$5 -> 123-45-67890 | B10: =신청기업정보!$B$5 -> 가나다 | C10: 9 | E10: =IFERROR(VLOOKUP($D10,'지원프로그램(TP)'!$A$2:$H$101,2,0),"") | F10: =IFERROR(VLOOKUP($D10,'지원프로그램(TP)'!$A$2:$H$101,4,0),"") | G10: =IFERROR(VLOOKUP($D10,'지원프로그램(TP)'!$A$2:$H$101,6,0),"") | H10: =IFERROR(VLOOKUP($D10,'지원프로그램(TP)'!$A$2:$H$101,7,0),"") | I10: =IFERROR(VLOOKUP($D10,'지원프로그램(TP)'!$A$2:$H$101,8,0),"") | L10: =IFERROR(K10*I10/100,"")
A11: =신청기업정보!$A$5 -> 123-45-67890 | B11: =신청기업정보!$B$5 -> 가나다 | C11: 10 | E11: =IFERROR(VLOOKUP($D11,'지원프로그램(TP)'!$A$2:$H$101,2,0),"") | F11: =IFERROR(VLOOKUP($D11,'지원프로그램(TP)'!$A$2:$H$101,4,0),"") | G11: =IFERROR(VLOOKUP($D11,'지원프로그램(TP)'!$A$2:$H$101,6,0),"") | H11: =IFERROR(VLOOKUP($D11,'지원프로그램(TP)'!$A$2:$H$101,7,0),"") | I11: =IFERROR(VLOOKUP($D11,'지원프로그램(TP)'!$A$2:$H$101,8,0),"") | L11: =IFERROR(K11*I11/100,"")

Sheet 기업지원수혜이력
A1: 사업자등록번호 (000-00-00000) | B1: 기업명 | C1: 일련번호 | D1: 산업명 | E1: 지원 프로그램 | F1: 지원기관 | G1: 제품명(서비스명) | H1: 지원기간 (yyyymmdd~yyyymmdd) | I1: 지원금액(천원)
A2: =신청기업정보!$A$5 -> 123-45-67890 | B2: =신청기업정보!$B$5 -> 가나다 | C2: 1 | D2: 바이오의약 | E2: 장비교육 | F2: OO테크노파크 | G2: aaa | H2: 20150701~20150831 | I2: 100
A3: =신청기업정보!$A$5 -> 123-45-67890 | B3: =신청기업정보!$B$5 -> 가나다 | C3: 2 | D3: 자동차부품 | E3: 제품고급화 | F3: OO대학교 | G3: bbb | H3: 20151201~20160331 | I3: 500
A4: =신청기업정보!$A$5 -> 123-45-67890 | B4: =신청기업정보!$B$5 -> 가나다 | C4: 3 | D4: 인쇄전자 | E4: 시제품제작 | F4: OO대학교 | G4: ccc | H4: 20141115~20150228 | I4: 700
A5: =신청기업정보!$A$5 -> 123-45-67890 | B5: =신청기업정보!$B$5 -> 가나다 | C5: 4
A6: =신청기업정보!$A$5 -> 123-45-67890 | B6: =신청기업정보!$B$5 -> 가나다 | C6: 5
A7: =신청기업정보!$A$5 -> 123-45-67890 | B7: =신청기업정보!$B$5 -> 가나다 | C7: 6
A8: =신청기업정보!$A$5 -> 123-45-67890 | B8: =신청기업정보!$B$5 -> 가나다 | C8: 7
A9: =신청기업정보!$A$5 -> 123-45-67890 | B9: =신청기업정보!$B$5 -> 가나다 | C9: 8
A10: =신청기업정보!$A$5 -> 123-45-67890 | B10: =신청기업정보!$B$5 -> 가나다 | C10: 9
A11: =신청기업정보!$A$5 -> 123-45-67890 | B11: =신청기업정보!$B$5 -> 가나다 | C11: 10
A12: =신청기업정보!$A$5 -> 123-45-67890 | B12: =신청기업정보!$B$5 -> 가나다 | C12: 11
A13: =신청기업정보!$A$5 -> 123-45-67890 | B13: =신청기업정보!$B$5 -> 가나다 | C13: 12
A14: =신청기업정보!$A$5 -> 123-45-67890 | B14: =신청기업정보!$B$5 -> 가나다 | C14: 13
A15: =신청기업정보!$A$5 -> 123-45-67890 | B15: =신청기업정보!$B$5 -> 가나다 | C15: 14
A16: =신청기업정보!$A$5 -> 123-45-67890 | B16: =신청기업정보!$B$5 -> 가나다 | C16: 15

Sheet 신청양식(출력용)
A1: 기업지원서비스사업 수혜기업 지원신청서
A3: 소재지역 | B3: =VLOOKUP($C$17,신청기업정보!$A$5:$AN$5,3,0) -> 강원
A4: 신청 프로그램 | B4: 지원희망우선순위 | C4: 대표산업분야 | D4: 신청프로그램 | E4: 지원기관명 | F4: 제품명(서비스명) | G4: 신청금액(천원) | H4: 기업부담금(천원)
B5: 1 | C5: {=INDEX(신청프로그램!E$2:E$11,MATCH($C$17&$B5,신청프로그램!$A$2:$A$11&신청프로그램!$C$2:$C$11,0))} | D5: {=INDEX(신청프로그램!F$2:F$11,MATCH($C$17&$B5,신청프로그램!$A$2:$A$11&신청프로그램!$C$2:$C$11,0))} | E5: {=INDEX(신청프로그램!G$2:G$11,MATCH($C$17&$B5,신청프로그램!$A$2:$A$11&신청프로그램!$C$2:$C$11,0))} | F5: {=INDEX(신청프로그램!J$2:J$11,MATCH($C$17&$B5,신청프로그램!$A$2:$A$11&신청프로그램!$C$2:$C$11,0))} -> aaaa | G5: {=INDEX(신청프로그램!K$2:K$11,MATCH($C$17&$B5,신청프로그램!$A$2:$A$11&신청프로그램!$C$2:$C$11,0))} -> 5000 | H5: {=INDEX(신청프로그램!L$2:L$11,MATCH($C$17&$B5,신청프로그램!$A$2:$A$11&신청프로그램!$C$2:$C$11,0))}
B6: 2 | C6: {=INDEX(신청프로그램!E$2:E$11,MATCH($C$17&$B6,신청프로그램!$A$2:$A$11&신청프로그램!$C$2:$C$11,0))} | D6: {=INDEX(신청프로그램!F$2:F$11,MATCH($C$17&$B6,신청프로그램!$A$2:$A$11&신청프로그램!$C$2:$C$11,0))} | E6: {=INDEX(신청프로그램!G$2:G$11,MATCH($C$17&$B6,신청프로그램!$A$2:$A$11&신청프로그램!$C$2:$C$11,0))} -> #N/A | F6: {=INDEX(신청프로그램!J$2:J$11,MATCH($C$17&$B6,신청프로그램!$A$2:$A$11&신청프로그램!$C$2:$C$11,0))} -> bbbb | G6: {=INDEX(신청프로그램!K$2:K$11,MATCH($C$17&$B6,신청프로그램!$A$2:$A$11&신청프로그램!$C$2:$C$11,0))} -> 250 | H6: {=INDEX(신청프로그램!L$2:L$11,MATCH($C$17&$B6,신청프로그램!$A$2:$A$11&신청프로그램!$C$2:$C$11,0))}
B7: 3 | C7: {=INDEX(신청프로그램!E$2:E$11,MATCH($C$17&$B7,신청프로그램!$A$2:$A$11&신청프로그램!$C$2:$C$11,0))} | D7: {=INDEX(신청프로그램!F$2:F$11,MATCH($C$17&$B7,신청프로그램!$A$2:$A$11&신청프로그램!$C$2:$C$11,0))} | E7: {=INDEX(신청프로그램!G$2:G$11,MATCH($C$17&$B7,신청프로그램!$A$2:$A$11&신청프로그램!$C$2:$C$11,0))} -> #N/A | F7: {=INDEX(신청프로그램!J$2:J$11,MATCH($C$17&$B7,신청프로그램!$A$2:$A$11&신청프로그램!$C$2:$C$11,0))} -> cccc | G7: {=INDEX(신청프로그램!K$2:K$11,MATCH($C$17&$B7,신청프로그램!$A$2:$A$11&신청프로그램!$C$2:$C$11,0))} -> 50 | H7: {=INDEX(신청프로그램!L$2:L$11,MATCH($C$17&$B7,신청프로그램!$A$2:$A$11&신청프로그램!$C$2:$C$11,0))}
B8: 4 | C8: {=INDEX(신청프로그램!E$2:E$11,MATCH($C$17&$B8,신청프로그램!$A$2:$A$11&신청프로그램!$C$2:$C$11,0))} | D8: {=INDEX(신청프로그램!F$2:F$11,MATCH($C$17&$B8,신청프로그램!$A$2:$A$11&신청프로그램!$C$2:$C$11,0))} | E8: {=INDEX(신청프로그램!G$2:G$11,MATCH($C$17&$B8,신청프로그램!$A$2:$A$11&신청프로그램!$C$2:$C$11,0))} | F8: {=INDEX(신청프로그램!J$2:J$11,MATCH($C$17&$B8,신청프로그램!$A$2:$A$11&신청프로그램!$C$2:$C$11,0))} | G8: {=INDEX(신청프로그램!K$2:K$11,MATCH($C$17&$B8,신청프로그램!$A$2:$A$11&신청프로그램!$C$2:$C$11,0))} | H8: {=INDEX(신청프로그램!L$2:L$11,MATCH($C$17&$B8,신청프로그램!$A$2:$A$11&신청프로그램!$C$2:$C$11,0))}
B9: 5 | C9: {=INDEX(신청프로그램!E$2:E$11,MATCH($C$17&$B9,신청프로그램!$A$2:$A$11&신청프로그램!$C$2:$C$11,0))} | D9: {=INDEX(신청프로그램!F$2:F$11,MATCH($C$17&$B9,신청프로그램!$A$2:$A$11&신청프로그램!$C$2:$C$11,0))} | E9: {=INDEX(신청프로그램!G$2:G$11,MATCH($C$17&$B9,신청프로그램!$A$2:$A$11&신청프로그램!$C$2:$C$11,0))} | F9: {=INDEX(신청프로그램!J$2:J$11,MATCH($C$17&$B9,신청프로그램!$A$2:$A$11&신청프로그램!$C$2:$C$11,0))} | G9: {=INDEX(신청프로그램!K$2:K$11,MATCH($C$17&$B9,신청프로그램!$A$2:$A$11&신청프로그램!$C$2:$C$11,0))} | H9: {=INDEX(신청프로그램!L$2:L$11,MATCH($C$17&$B9,신청프로그램!$A$2:$A$11&신청프로그램!$C$2:$C$11,0))}
B10: 6 | C10: {=INDEX(신청프로그램!E$2:E$11,MATCH($C$17&$B10,신청프로그램!$A$2:$A$11&신청프로그램!$C$2:$C$11,0))} | D10: {=INDEX(신청프로그램!F$2:F$11,MATCH($C$17&$B10,신청프로그램!$A$2:$A$11&신청프로그램!$C$2:$C$11,0))} | E10: {=INDEX(신청프로그램!G$2:G$11,MATCH($C$17&$B10,신청프로그램!$A$2:$A$11&신청프로그램!$C$2:$C$11,0))} | F10: {=INDEX(신청프로그램!J$2:J$11,MATCH($C$17&$B10,신청프로그램!$A$2:$A$11&신청프로그램!$C$2:$C$11,0))} | G10: {=INDEX(신청프로그램!K$2:K$11,MATCH($C$17&$B10,신청프로그램!$A$2:$A$11&신청프로그램!$C$2:$C$11,0))} | H10: {=INDEX(신청프로그램!L$2:L$11,MATCH($C$17&$B10,신청프로그램!$A$2:$A$11&신청프로그램!$C$2:$C$11,0))}
B11: 7 | C11: {=INDEX(신청프로그램!E$2:E$11,MATCH($C$17&$B11,신청프로그램!$A$2:$A$11&신청프로그램!$C$2:$C$11,0))} | D11: {=INDEX(신청프로그램!F$2:F$11,MATCH($C$17&$B11,신청프로그램!$A$2:$A$11&신청프로그램!$C$2:$C$11,0))} | E11: {=INDEX(신청프로그램!G$2:G$11,MATCH($C$17&$B11,신청프로그램!$A$2:$A$11&신청프로그램!$C$2:$C$11,0))} | F11: {=INDEX(신청프로그램!J$2:J$11,MATCH($C$17&$B11,신청프로그램!$A$2:$A$11&신청프로그램!$C$2:$C$11,0))} | G11: {=INDEX(신청프로그램!K$2:K$11,MATCH($C$17&$B11,신청프로그램!$A$2:$A$11&신청프로그램!$C$2:$C$11,0))} | H11: {=INDEX(신청프로그램!L$2:L$11,MATCH($C$17&$B11,신청프로그램!$A$2:$A$11&신청프로그램!$C$2:$C$11,0))}
B12: 8 | C12: {=INDEX(신청프로그램!E$2:E$11,MATCH($C$17&$B12,신청프로그램!$A$2:$A$11&신청프로그램!$C$2:$C$11,0))} | D12: {=INDEX(신청프로그램!F$2:F$11,MATCH($C$17&$B12,신청프로그램!$A$2:$A$11&신청프로그램!$C$2:$C$11,0))} | E12: {=INDEX(신청프로그램!G$2:G$11,MATCH($C$17&$B12,신청프로그램!$A$2:$A$11&신청프로그램!$C$2:$C$11,0))} | F12: {=INDEX(신청프로그램!J$2:J$11,MATCH($C$17&$B12,신청프로그램!$A$2:$A$11&신청프로그램!$C$2:$C$11,0))} | G12: {=INDEX(신청프로그램!K$2:K$11,MATCH($C$17&$B12,신청프로그램!$A$2:$A$11&신청프로그램!$C$2:$C$11,0))} | H12: {=INDEX(신청프로그램!L$2:L$11,MATCH($C$17&$B12,신청프로그램!$A$2:$A$11&신청프로그램!$C$2:$C$11,0))}
B13: 9 | C13: {=INDEX(신청프로그램!E$2:E$11,MATCH($C$17&$B13,신청프로그램!$A$2:$A$11&신청프로그램!$C$2:$C$11,0))} | D13: {=INDEX(신청프로그램!F$2:F$11,MATCH($C$17&$B13,신청프로그램!$A$2:$A$11&신청프로그램!$C$2:$C$11,0))} | E13: {=INDEX(신청프로그램!G$2:G$11,MATCH($C$17&$B13,신청프로그램!$A$2:$A$11&신청프로그램!$C$2:$C$11,0))} | F13: {=INDEX(신청프로그램!J$2:J$11,MATCH($C$17&$B13,신청프로그램!$A$2:$A$11&신청프로그램!$C$2:$C$11,0))} | G13: {=INDEX(신청프로그램!K$2:K$11,MATCH($C$17&$B13,신청프로그램!$A$2:$A$11&신청프로그램!$C$2:$C$11,0))} | H13: {=INDEX(신청프로그램!L$2:L$11,MATCH($C$17&$B13,신청프로그램!$A$2:$A$11&신청프로그램!$C$2:$C$11,0))}
B14: 10 | C14: {=INDEX(신청프로그램!E$2:E$11,MATCH($C$17&$B14,신청프로그램!$A$2:$A$11&신청프로그램!$C$2:$C$11,0))} | D14: {=INDEX(신청프로그램!F$2:F$11,MATCH($C$17&$B14,신청프로그램!$A$2:$A$11&신청프로그램!$C$2:$C$11,0))} | E14: {=INDEX(신청프로그램!G$2:G$11,MATCH($C$17&$B14,신청프로그램!$A$2:$A$11&신청프로그램!$C$2:$C$11,0))} | F14: {=INDEX(신청프로그램!J$2:J$11,MATCH($C$17&$B14,신청프로그램!$A$2:$A$11&신청프로그램!$C$2:$C$11,0))} | G14: {=INDEX(신청프로그램!K$2:K$11,MATCH($C$17&$B14,신청프로그램!$A$2:$A$11&신청프로그램!$C$2:$C$11,0))} | H14: {=INDEX(신청프로그램!L$2:L$11,MATCH($C$17&$B14,신청프로그램!$A$2:$A$11&신청프로그램!$C$2:$C$11,0))}
A15: 신청기업 기본정보 | B15: 기업명 | C15: =신청기업정보!B5 -> 가나다 | D15: 대표자 성명 | E15: =신청기업정보!E5 -> 유시진 | F15: 기업부설연구소 (KOITA 인정서에 한함) | G15: 유형 | H15: =신청기업정보!Q5 -> 연구소
B16: 설립일 | C16: =신청기업정보!H5 -> 20010101 | D16: 기업형태 | E16: =신청기업정보!I5 -> 법인 | G16: 설립일 | H16: =신청기업정보!R5 -> 20130102
B17: 사업자등록번호 | C17: =신청기업정보!A5 -> 123-45-67890 | D17: 법인등록번호 | E17: =신청기업정보!D5 -> 123456-1234567 | F17: 주생산품 | G17: =신청기업정보!L5 -> 조명
B18: KSIC코드 | C18: =신청기업정보!K5 -> 12345 | D18: 업태/업종명 | E18: =신청기업정보!J5 -> abcde
B19: 주소 | C19: 우편번호 | D19: =신청기업정보!F5 -> 12345 | E19: 상세주소 | F19: =신청기업정보!G5 -> 서울시 강남구 테헤란로 305
A20: 실무담당자 | B20: 성명 | C20: =신청기업정보!S5 -> 서대영 | D20: 연락처(전화/휴대전화) | E20: =신청기업정보!T5 -> 02-1234-1234 | F20: =신청기업정보!U5 -> 010-1234-1234 | G20: E-mail | H20: =신청기업정보!V5 -> aaa@aa.aa.aa
A21: 신청기업 주요현황 | B21: 년도 | C21: 매출액(내수+수출) | D21: 수출액 | E21: 주요수출품목 | F21: 주요수출국 | G21: 연구개발비 | H21: 종업원수
B22: 2013년 | C22: =신청기업정보!W5 -> 100 | D22: =신청기업정보!Z5 -> 70 | E22: =신청기업정보!AC5 -> aa | F22: =신청기업정보!AF5 -> 미국 | G22: =신청기업정보!AI5 -> 30 | H22: =신청기업정보!AL5 -> 4
B23: 2014년 | C23: =신청기업정보!X5 -> 200 | D23: =신청기업정보!AA5 -> 150 | E23: =신청기업정보!AD5 -> bb | F23: =신청기업정보!AG5 -> 미국 | G23: =신청기업정보!AJ5 -> 50 | H23: =신청기업정보!AM5 -> 5
B24: 2015년 | C24: =신청기업정보!Y5 -> 300 | D24: =신청기업정보!AB5 -> 200 | E24: =신청기업정보!AE5 -> cc | F24: =신청기업정보!AH5 -> 중국 | G24: =신청기업정보!AK5 -> 60 | H24: =신청기업정보!AN5 -> 9
A25: 고용현황 | B25: 연구인력 | D25: 생산인력 | F25: 기타인력 | H25: 계
B26: =VLOOKUP($C$17,신청기업정보!$A$5:$AN$5,13,0) -> 3 | D26: =VLOOKUP($C$17,신청기업정보!$A$5:$AN$5,14,0) -> 2 | F26: =VLOOKUP($C$17,신청기업정보!$A$5:$AN$5,15,0) -> 1 | H26: =VLOOKUP($C$17,신청기업정보!$A$5:$AN$5,16,0) -> 6
A27: 최근 2년 내 기업지원 수혜이력 | B27: 일련번호 | C27: 산업분야 | D27: 지원프로그램 | E27: 지원기관명 | F27: 제품명(서비스명) | G27: 지원기간 | H27: 지원금액(천원)
B28: 1 | C28: {=INDEX(기업지원수혜이력!D$2:D$16,MATCH($C$17&$B28,기업지원수혜이력!$A$2:$A$16&기업지원수혜이력!$C$2:$C$16,0))} -> 바이오의약 | D28: {=INDEX(기업지원수혜이력!E$2:E$16,MATCH($C$17&$B28,기업지원수혜이력!$A$2:$A$16&기업지원수혜이력!$C$2:$C$16,0))} -> 장비교육 | E28: {=INDEX(기업지원수혜이력!F$2:F$16,MATCH($C$17&$B28,기업지원수혜이력!$A$2:$A$16&기업지원수혜이력!$C$2:$C$16,0))} -> OO테크노파크 | F28: {=INDEX(기업지원수혜이력!G$2:G$16,MATCH($C$17&$B28,기업지원수혜이력!$A$2:$A$16&기업지원수혜이력!$C$2:$C$16,0))} -> aaa | G28: {=INDEX(기업지원수혜이력!H$2:H$16,MATCH($C$17&$B28,기업지원수혜이력!$A$2:$A$16&기업지원수혜이력!$C$2:$C$16,0))} -> 20150701~20150831 | H28: {=INDEX(기업지원수혜이력!I$2:I$16,MATCH($C$17&$B28,기업지원수혜이력!$A$2:$A$16&기업지원수혜이력!$C$2:$C$16,0))} -> 100
B29: 2 | C29: {=INDEX(기업지원수혜이력!D$2:D$16,MATCH($C$17&$B29,기업지원수혜이력!$A$2:$A$16&기업지원수혜이력!$C$2:$C$16,0))} -> 자동차부품 | D29: {=INDEX(기업지원수혜이력!E$2:E$16,MATCH($C$17&$B29,기업지원수혜이력!$A$2:$A$16&기업지원수혜이력!$C$2:$C$16,0))} -> 제품고급화 | E29: {=INDEX(기업지원수혜이력!F$2:F$16,MATCH($C$17&$B29,기업지원수혜이력!$A$2:$A$16&기업지원수혜이력!$C$2:$C$16,0))} -> OO대학교 | F29: {=INDEX(기업지원수혜이력!G$2:G$16,MATCH($C$17&$B29,기업지원수혜이력!$A$2:$A$16&기업지원수혜이력!$C$2:$C$16,0))} -> bbb | G29: {=INDEX(기업지원수혜이력!H$2:H$16,MATCH($C$17&$B29,기업지원수혜이력!$A$2:$A$16&기업지원수혜이력!$C$2:$C$16,0))} -> 20151201~20160331 | H29: {=INDEX(기업지원수혜이력!I$2:I$16,MATCH($C$17&$B29,기업지원수혜이력!$A$2:$A$16&기업지원수혜이력!$C$2:$C$16,0))} -> 500
B30: 3 | C30: {=INDEX(기업지원수혜이력!D$2:D$16,MATCH($C$17&$B30,기업지원수혜이력!$A$2:$A$16&기업지원수혜이력!$C$2:$C$16,0))} -> 인쇄전자 | D30: {=INDEX(기업지원수혜이력!E$2:E$16,MATCH($C$17&$B30,기업지원수혜이력!$A$2:$A$16&기업지원수혜이력!$C$2:$C$16,0))} -> 시제품제작 | E30: {=INDEX(기업지원수혜이력!F$2:F$16,MATCH($C$17&$B30,기업지원수혜이력!$A$2:$A$16&기업지원수혜이력!$C$2:$C$16,0))} -> OO대학교 | F30: {=INDEX(기업지원수혜이력!G$2:G$16,MATCH($C$17&$B30,기업지원수혜이력!$A$2:$A$16&기업지원수혜이력!$C$2:$C$16,0))} -> ccc | G30: {=INDEX(기업지원수혜이력!H$2:H$16,MATCH($C$17&$B30,기업지원수혜이력!$A$2:$A$16&기업지원수혜이력!$C$2:$C$16,0))} -> 20141115~20150228 | H30: {=INDEX(기업지원수혜이력!I$2:I$16,MATCH($C$17&$B30,기업지원수혜이력!$A$2:$A$16&기업지원수혜이력!$C$2:$C$16,0))} -> 700
B31: 4 | C31: {=INDEX(기업지원수혜이력!D$2:D$16,MATCH($C$17&$B31,기업지원수혜이력!$A$2:$A$16&기업지원수혜이력!$C$2:$C$16,0))} | D31: {=INDEX(기업지원수혜이력!E$2:E$16,MATCH($C$17&$B31,기업지원수혜이력!$A$2:$A$16&기업지원수혜이력!$C$2:$C$16,0))} | E31: {=INDEX(기업지원수혜이력!F$2:F$16,MATCH($C$17&$B31,기업지원수혜이력!$A$2:$A$16&기업지원수혜이력!$C$2:$C$16,0))} | F31: {=INDEX(기업지원수혜이력!G$2:G$16,MATCH($C$17&$B31,기업지원수혜이력!$A$2:$A$16&기업지원수혜이력!$C$2:$C$16,0))} | G31: {=INDEX(기업지원수혜이력!H$2:H$16,MATCH($C$17&$B31,기업지원수혜이력!$A$2:$A$16&기업지원수혜이력!$C$2:$C$16,0))} | H31: {=INDEX(기업지원수혜이력!I$2:I$16,MATCH($C$17&$B31,기업지원수혜이력!$A$2:$A$16&기업지원수혜이력!$C$2:$C$16,0))}
B32: 5 | C32: {=INDEX(기업지원수혜이력!D$2:D$16,MATCH($C$17&$B32,기업지원수혜이력!$A$2:$A$16&기업지원수혜이력!$C$2:$C$16,0))} | D32: {=INDEX(기업지원수혜이력!E$2:E$16,MATCH($C$17&$B32,기업지원수혜이력!$A$2:$A$16&기업지원수혜이력!$C$2:$C$16,0))} | E32: {=INDEX(기업지원수혜이력!F$2:F$16,MATCH($C$17&$B32,기업지원수혜이력!$A$2:$A$16&기업지원수혜이력!$C$2:$C$16,0))} | F32: {=INDEX(기업지원수혜이력!G$2:G$16,MATCH($C$17&$B32,기업지원수혜이력!$A$2:$A$16&기업지원수혜이력!$C$2:$C$16,0))} | G32: {=INDEX(기업지원수혜이력!H$2:H$16,MATCH($C$17&$B32,기업지원수혜이력!$A$2:$A$16&기업지원수혜이력!$C$2:$C$16,0))} | H32: {=INDEX(기업지원수혜이력!I$2:I$16,MATCH($C$17&$B32,기업지원수혜이력!$A$2:$A$16&기업지원수혜이력!$C$2:$C$16,0))}
B33: 6 | C33: {=INDEX(기업지원수혜이력!D$2:D$16,MATCH($C$17&$B33,기업지원수혜이력!$A$2:$A$16&기업지원수혜이력!$C$2:$C$16,0))} | D33: {=INDEX(기업지원수혜이력!E$2:E$16,MATCH($C$17&$B33,기업지원수혜이력!$A$2:$A$16&기업지원수혜이력!$C$2:$C$16,0))} | E33: {=INDEX(기업지원수혜이력!F$2:F$16,MATCH($C$17&$B33,기업지원수혜이력!$A$2:$A$16&기업지원수혜이력!$C$2:$C$16,0))} | F33: {=INDEX(기업지원수혜이력!G$2:G$16,MATCH($C$17&$B33,기업지원수혜이력!$A$2:$A$16&기업지원수혜이력!$C$2:$C$16,0))} | G33: {=INDEX(기업지원수혜이력!H$2:H$16,MATCH($C$17&$B33,기업지원수혜이력!$A$2:$A$16&기업지원수혜이력!$C$2:$C$16,0))} | H33: {=INDEX(기업지원수혜이력!I$2:I$16,MATCH($C$17&$B33,기업지원수혜이력!$A$2:$A$16&기업지원수혜이력!$C$2:$C$16,0))}
B34: 7 | C34: {=INDEX(기업지원수혜이력!D$2:D$16,MATCH($C$17&$B34,기업지원수혜이력!$A$2:$A$16&기업지원수혜이력!$C$2:$C$16,0))} | D34: {=INDEX(기업지원수혜이력!E$2:E$16,MATCH($C$17&$B34,기업지원수혜이력!$A$2:$A$16&기업지원수혜이력!$C$2:$C$16,0))} | E34: {=INDEX(기업지원수혜이력!F$2:F$16,MATCH($C$17&$B34,기업지원수혜이력!$A$2:$A$16&기업지원수혜이력!$C$2:$C$16,0))} | F34: {=INDEX(기업지원수혜이력!G$2:G$16,MATCH($C$17&$B34,기업지원수혜이력!$A$2:$A$16&기업지원수혜이력!$C$2:$C$16,0))} | G34: {=INDEX(기업지원수혜이력!H$2:H$16,MATCH($C$17&$B34,기업지원수혜이력!$A$2:$A$16&기업지원수혜이력!$C$2:$C$16,0))} | H34: {=INDEX(기업지원수혜이력!I$2:I$16,MATCH($C$17&$B34,기업지원수혜이력!$A$2:$A$16&기업지원수혜이력!$C$2:$C$16,0))}
B35: 8 | C35: {=INDEX(기업지원수혜이력!D$2:D$16,MATCH($C$17&$B35,기업지원수혜이력!$A$2:$A$16&기업지원수혜이력!$C$2:$C$16,0))} | D35: {=INDEX(기업지원수혜이력!E$2:E$16,MATCH($C$17&$B35,기업지원수혜이력!$A$2:$A$16&기업지원수혜이력!$C$2:$C$16,0))} | E35: {=INDEX(기업지원수혜이력!F$2:F$16,MATCH($C$17&$B35,기업지원수혜이력!$A$2:$A$16&기업지원수혜이력!$C$2:$C$16,0))} | F35: {=INDEX(기업지원수혜이력!G$2:G$16,MATCH($C$17&$B35,기업지원수혜이력!$A$2:$A$16&기업지원수혜이력!$C$2:$C$16,0))} | G35: {=INDEX(기업지원수혜이력!H$2:H$16,MATCH($C$17&$B35,기업지원수혜이력!$A$2:$A$16&기업지원수혜이력!$C$2:$C$16,0))} | H35: {=INDEX(기업지원수혜이력!I$2:I$16,MATCH($C$17&$B35,기업지원수혜이력!$A$2:$A$16&기업지원수혜이력!$C$2:$C$16,0))}
B36: 9 | C36: {=INDEX(기업지원수혜이력!D$2:D$16,MATCH($C$17&$B36,기업지원수혜이력!$A$2:$A$16&기업지원수혜이력!$C$2:$C$16,0))} | D36: {=INDEX(기업지원수혜이력!E$2:E$16,MATCH($C$17&$B36,기업지원수혜이력!$A$2:$A$16&기업지원수혜이력!$C$2:$C$16,0))} | E36: {=INDEX(기업지원수혜이력!F$2:F$16,MATCH($C$17&$B36,기업지원수혜이력!$A$2:$A$16&기업지원수혜이력!$C$2:$C$16,0))} | F36: {=INDEX(기업지원수혜이력!G$2:G$16,MATCH($C$17&$B36,기업지원수혜이력!$A$2:$A$16&기업지원수혜이력!$C$2:$C$16,0))} | G36: {=INDEX(기업지원수혜이력!H$2:H$16,MATCH($C$17&$B36,기업지원수혜이력!$A$2:$A$16&기업지원수혜이력!$C$2:$C$16,0))} | H36: {=INDEX(기업지원수혜이력!I$2:I$16,MATCH($C$17&$B36,기업지원수혜이력!$A$2:$A$16&기업지원수혜이력!$C$2:$C$16,0))}
B37: 10 | C37: {=INDEX(기업지원수혜이력!D$2:D$16,MATCH($C$17&$B37,기업지원수혜이력!$A$2:$A$16&기업지원수혜이력!$C$2:$C$16,0))} | D37: {=INDEX(기업지원수혜이력!E$2:E$16,MATCH($C$17&$B37,기업지원수혜이력!$A$2:$A$16&기업지원수혜이력!$C$2:$C$16,0))} | E37: {=INDEX(기업지원수혜이력!F$2:F$16,MATCH($C$17&$B37,기업지원수혜이력!$A$2:$A$16&기업지원수혜이력!$C$2:$C$16,0))} | F37: {=INDEX(기업지원수혜이력!G$2:G$16,MATCH($C$17&$B37,기업지원수혜이력!$A$2:$A$16&기업지원수혜이력!$C$2:$C$16,0))} | G37: {=INDEX(기업지원수혜이력!H$2:H$16,MATCH($C$17&$B37,기업지원수혜이력!$A$2:$A$16&기업지원수혜이력!$C$2:$C$16,0))} | H37: {=INDEX(기업지원수혜이력!I$2:I$16,MATCH($C$17&$B37,기업지원수혜이력!$A$2:$A$16&기업지원수혜이력!$C$2:$C$16,0))}
B38: 11 | C38: {=INDEX(기업지원수혜이력!D$2:D$16,MATCH($C$17&$B38,기업지원수혜이력!$A$2:$A$16&기업지원수혜이력!$C$2:$C$16,0))} | D38: {=INDEX(기업지원수혜이력!E$2:E$16,MATCH($C$17&$B38,기업지원수혜이력!$A$2:$A$16&기업지원수혜이력!$C$2:$C$16,0))} | E38: {=INDEX(기업지원수혜이력!F$2:F$16,MATCH($C$17&$B38,기업지원수혜이력!$A$2:$A$16&기업지원수혜이력!$C$2:$C$16,0))} | F38: {=INDEX(기업지원수혜이력!G$2:G$16,MATCH($C$17&$B38,기업지원수혜이력!$A$2:$A$16&기업지원수혜이력!$C$2:$C$16,0))} | G38: {=INDEX(기업지원수혜이력!H$2:H$16,MATCH($C$17&$B38,기업지원수혜이력!$A$2:$A$16&기업지원수혜이력!$C$2:$C$16,0))} | H38: {=INDEX(기업지원수혜이력!I$2:I$16,MATCH($C$17&$B38,기업지원수혜이력!$A$2:$A$16&기업지원수혜이력!$C$2:$C$16,0))}
B39: 12 | C39: {=INDEX(기업지원수혜이력!D$2:D$16,MATCH($C$17&$B39,기업지원수혜이력!$A$2:$A$16&기업지원수혜이력!$C$2:$C$16,0))} | D39: {=INDEX(기업지원수혜이력!E$2:E$16,MATCH($C$17&$B39,기업지원수혜이력!$A$2:$A$16&기업지원수혜이력!$C$2:$C$16,0))} | E39: {=INDEX(기업지원수혜이력!F$2:F$16,MATCH($C$17&$B39,기업지원수혜이력!$A$2:$A$16&기업지원수혜이력!$C$2:$C$16,0))} | F39: {=INDEX(기업지원수혜이력!G$2:G$16,MATCH($C$17&$B39,기업지원수혜이력!$A$2:$A$16&기업지원수혜이력!$C$2:$C$16,0))} | G39: {=INDEX(기업지원수혜이력!H$2:H$16,MATCH($C$17&$B39,기업지원수혜이력!$A$2:$A$16&기업지원수혜이력!$C$2:$C$16,0))} | H39: {=INDEX(기업지원수혜이력!I$2:I$16,MATCH($C$17&$B39,기업지원수혜이력!$A$2:$A$16&기업지원수혜이력!$C$2:$C$16,0))}
... B42: 15 | C42: {=INDEX(기업지원수혜이력!D$2:D$16,MATCH($C$17&$B42,기업지원수혜이력!$A$2:$A$16&기업지원수혜이력!$C$2:$C$16,0))} | D42: {=INDEX(기업지원수혜이력!E$2:E$16,MATCH($C$17&$B42,기업지원수혜이력!$A$2:$A$16&기업지원수혜이력!$C$2:$C$16,0))} | E42: {=INDEX(기업지원수혜이력!F$2:F$16,MATCH($C$17&$B42,기업지원수혜이력!$A$2:$A$16&기업지원수혜이력!$C$2:$C$16,0))} | F42: {=INDEX(기업지원수혜이력!G$2:G$16,MATCH($C$17&$B42,기업지원수혜이력!$A$2:$A$16&기업지원수혜이력!$C$2:$C$16,0))} | G42: {=INDEX(기업지원수혜이력!H$2:H$16,MATCH($C$17&$B42,기업지원수혜이력!$A$2:$A$16&기업지원수혜이력!$C$2:$C$16,0))} | H42: {=INDEX(기업지원수혜이력!I$2:I$16,MATCH($C$17&$B42,기업지원수혜이력!$A$2:$A$16&기업지원수혜이력!$C$2:$C$16,0))}
A44: 상기 내용과 같이 해당 사업의 수혜기업으로 신청합니다. 아울러, 수혜기업 선정 과정에서 지원 중복성 및 적정성 검토 등을 위한 기업정보 및 개인정보 활용에 동의합니다.
D47: =TODAY() -> 42503
F49: 신청기업 : | G49: =VLOOKUP($C$17,신청기업정보!$A$5:$AN$5,2,0) -> 가나다
F50: 대표자 : | G50: =VLOOKUP($C$17,신청기업정보!$A$5:$AN$5,5,0) -> 유시진 | H50: (인)
A52: ㅇㅇ테크노파크원장(수행기관의 장) 귀하
